BEGIN:VCALENDAR
VERSION:2.0
PRODID:-//Plone.org//NONSGML plone.app.event//EN
X-WR-TIMEZONE:US/Eastern
BEGIN:VEVENT
SUMMARY:Senior Cards
DTSTART;TZID=US/Eastern:20260423T130000
DTEND;TZID=US/Eastern:20260423T160000
DTSTAMP:20260419T125701Z
UID:7d9d0e28140b4ffe946018602c965d2e@saas_stack_varnish:6080
RRULE:FREQ=WEEKLY;COUNT=100;BYDAY=TH
CREATED:20250117T201734Z
LAST-MODIFIED:20260327T155203Z
URL:https://www.sleeper.michlibrary.org/news-events/lib-cal/senior-cards
END:VEVENT
BEGIN:VEVENT
SUMMARY:Mother Daughter Tea
DTSTART;TZID=US/Eastern:20260425T120000
DTEND;TZID=US/Eastern:20260425T140000
DTSTAMP:20260419T125701Z
UID:d497ff0c43ce4ee9aa9a06c2705b6750@saas_stack_varnish:6080
CONTACT:Bonnie Irvine\, 989-658-8901\, ublylibrary1908@gmail.com
CREATED:20260313T194459Z
LAST-MODIFIED:20260402T224617Z
URL:https://www.sleeper.michlibrary.org/news-events/lib-cal/mother-daughte
 r-tea
END:VEVENT
BEGIN:VTIMEZONE
TZID:US/Eastern
X-LIC-LOCATION:US/Eastern
BEGIN:DAYLIGHT
DTSTART:20260308T030000
TZNAME:EDT
TZOFFSETFROM:-0500
TZOFFSETTO:-0400
END:DAYLIGHT
END:VTIMEZONE
END:VCALENDAR
